BEGIN:VCALENDAR
VERSION:2.0
PRODID:-//NetAuktion//NONSGML NetAuktion//SV
METHOD:PUBLISH
BEGIN:VEVENT
UID:20260421T104531-1489637611-netauktion.se
DTSTAMP:20260421T104531
DTSTART:20101103T011100
DTEND:20101103T011400
SUMMARY:Netauktion objekt 0671-021 Auktionspåminnelse
DESCRIPTION:Länk till objektet du var intresserad av: https://staging.netauktion.se/auktion/produkt/varmepump-foma-for-160m-126
END:VEVENT
END:VCALENDAR
