BEGIN:VCALENDAR
VERSION:2.0
PRODID:-//NetAuktion//NONSGML NetAuktion//SV
METHOD:PUBLISH
BEGIN:VEVENT
UID:20260421T104531-1846383551-netauktion.se
DTSTAMP:20260421T104531
DTSTART:20101103T013200
DTEND:20101103T013500
SUMMARY:Netauktion objekt 0671-024 Auktionspåminnelse
DESCRIPTION:Länk till objektet du var intresserad av: https://staging.netauktion.se/auktion/produkt/varmepump-foma-for-160m-194
END:VEVENT
END:VCALENDAR
