BEGIN:VCALENDAR
VERSION:2.0
PRODID:-//NetAuktion//NONSGML NetAuktion//SV
METHOD:PUBLISH
BEGIN:VEVENT
UID:20260421T104607-1596799216-netauktion.se
DTSTAMP:20260421T104607
DTSTART:20101029T033600
DTEND:20101029T033900
SUMMARY:Netauktion objekt 0693-002 Auktionspåminnelse
DESCRIPTION:Länk till objektet du var intresserad av: https://staging.netauktion.se/auktion/produkt/4st-begagnade-dewalt-elverktyg
END:VEVENT
END:VCALENDAR
