BEGIN:VCALENDAR
VERSION:2.0
PRODID:-//NetAuktion//NONSGML NetAuktion//SV
METHOD:PUBLISH
BEGIN:VEVENT
UID:20260421T103032-1244928323-netauktion.se
DTSTAMP:20260421T103032
DTSTART:20101029T032800
DTEND:20101029T033100
SUMMARY:Netauktion objekt 0693-003 Auktionspåminnelse
DESCRIPTION:Länk till objektet du var intresserad av: https://staging.netauktion.se/auktion/produkt/hitachi-elverktyg-3st-begagnade
END:VEVENT
END:VCALENDAR
