BEGIN:VCALENDAR
VERSION:2.0
PRODID:-//NetAuktion//NONSGML NetAuktion//SV
METHOD:PUBLISH
BEGIN:VEVENT
UID:20260421T104453-505718144-netauktion.se
DTSTAMP:20260421T104453
DTSTART:20101029T032200
DTEND:20101029T032500
SUMMARY:Netauktion objekt 0693-005 Auktionspåminnelse
DESCRIPTION:Länk till objektet du var intresserad av: https://staging.netauktion.se/auktion/produkt/praktiskt-vagn-full-med-div-verktyg
END:VEVENT
END:VCALENDAR
