BEGIN:VCALENDAR
VERSION:2.0
PRODID:-//NetAuktion//NONSGML NetAuktion//SV
METHOD:PUBLISH
BEGIN:VEVENT
UID:20260421T104451-319424873-netauktion.se
DTSTAMP:20260421T104451
DTSTART:20101029T033500
DTEND:20101029T033800
SUMMARY:Netauktion objekt 0693-006 Auktionspåminnelse
DESCRIPTION:Länk till objektet du var intresserad av: https://staging.netauktion.se/auktion/produkt/rullstallningar-kablar-mml
END:VEVENT
END:VCALENDAR
