BEGIN:VCALENDAR
VERSION:2.0
PRODID:-//NetAuktion//NONSGML NetAuktion//SV
METHOD:PUBLISH
BEGIN:VEVENT
UID:20260421T104529-849155486-netauktion.se
DTSTAMP:20260421T104529
DTSTART:20120530T012000
DTEND:20120530T012300
SUMMARY:Netauktion objekt 0675-008 Auktionspåminnelse
DESCRIPTION:Länk till objektet du var intresserad av: https://staging.netauktion.se/auktion/produkt/familjespel-cirondo-60st
END:VEVENT
END:VCALENDAR
