BEGIN:VCALENDAR
VERSION:2.0
PRODID:-//NetAuktion//NONSGML NetAuktion//SV
METHOD:PUBLISH
BEGIN:VEVENT
UID:20260421T104451-1852755349-netauktion.se
DTSTAMP:20260421T104451
DTSTART:20101029T032700
DTEND:20101029T033000
SUMMARY:Netauktion objekt 0697-004 Auktionspåminnelse
DESCRIPTION:Länk till objektet du var intresserad av: https://staging.netauktion.se/auktion/produkt/komplett-arbetsplats
END:VEVENT
END:VCALENDAR
