BEGIN:VCALENDAR
VERSION:2.0
PRODID:-//NetAuktion//NONSGML NetAuktion//SV
METHOD:PUBLISH
BEGIN:VEVENT
UID:20260421T104607-658517975-netauktion.se
DTSTAMP:20260421T104607
DTSTART:20101029T031200
DTEND:20101029T031500
SUMMARY:Netauktion objekt 0693-010 Auktionspåminnelse
DESCRIPTION:Länk till objektet du var intresserad av: https://staging.netauktion.se/auktion/produkt/kontorsplats-kaffemaskin-mm-hogsbo
END:VEVENT
END:VCALENDAR
