BEGIN:VCALENDAR
VERSION:2.0
PRODID:-//NetAuktion//NONSGML NetAuktion//SV
METHOD:PUBLISH
BEGIN:VEVENT
UID:20260421T102835-1815658536-netauktion.se
DTSTAMP:20260421T102835
DTSTART:20101029T033100
DTEND:20101029T033400
SUMMARY:Netauktion objekt 0693-012 Auktionspåminnelse
DESCRIPTION:Länk till objektet du var intresserad av: https://staging.netauktion.se/auktion/produkt/plathyllor-och-kabelrullar-mm-hogsbo
END:VEVENT
END:VCALENDAR
