BEGIN:VCALENDAR
VERSION:2.0
PRODID:-//NetAuktion//NONSGML NetAuktion//SV
METHOD:PUBLISH
BEGIN:VEVENT
UID:20260421T102853-1473098854-netauktion.se
DTSTAMP:20260421T102853
DTSTART:20101102T024900
DTEND:20101102T025200
SUMMARY:Netauktion objekt 0471-039 Auktionspåminnelse
DESCRIPTION:Länk till objektet du var intresserad av: https://staging.netauktion.se/auktion/produkt/stort-parti-oljor-for-motorcykel
END:VEVENT
END:VCALENDAR
