BEGIN:VCALENDAR
VERSION:2.0
PRODID:-//NetAuktion//NONSGML NetAuktion//SV
METHOD:PUBLISH
BEGIN:VEVENT
UID:20260421T102746-1762343165-netauktion.se
DTSTAMP:20260421T102746
DTSTART:20101102T025300
DTEND:20101102T025600
SUMMARY:Netauktion objekt 0471-056 Auktionspåminnelse
DESCRIPTION:Länk till objektet du var intresserad av: https://staging.netauktion.se/auktion/produkt/nolan-n-com-bluetooth-kit-for-hjalm-3
END:VEVENT
END:VCALENDAR
