BEGIN:VCALENDAR
VERSION:2.0
PRODID:-//NetAuktion//NONSGML NetAuktion//SV
METHOD:PUBLISH
BEGIN:VEVENT
UID:20260421T103032-1590339030-netauktion.se
DTSTAMP:20260421T103032
DTSTART:20101102T030400
DTEND:20101102T030700
SUMMARY:Netauktion objekt 0471-060 Auktionspåminnelse
DESCRIPTION:Länk till objektet du var intresserad av: https://staging.netauktion.se/auktion/produkt/eagle-industries-fishelite-502c-gps-2
END:VEVENT
END:VCALENDAR
