BEGIN:VCALENDAR
VERSION:2.0
PRODID:-//NetAuktion//NONSGML NetAuktion//SV
METHOD:PUBLISH
BEGIN:VEVENT
UID:20260421T104456-1417493287-netauktion.se
DTSTAMP:20260421T104456
DTSTART:20110331T020900
DTEND:20110331T021200
SUMMARY:Netauktion objekt 0610-214 Auktionspåminnelse
DESCRIPTION:Länk till objektet du var intresserad av: https://staging.netauktion.se/auktion/produkt/omkladningsskap-15st-13
END:VEVENT
END:VCALENDAR
