BEGIN:VCALENDAR
VERSION:2.0
PRODID:-//NetAuktion//NONSGML NetAuktion//SV
METHOD:PUBLISH
BEGIN:VEVENT
UID:20260421T104318-2064067578-netauktion.se
DTSTAMP:20260421T104318
DTSTART:20101130T055700
DTEND:20101130T060000
SUMMARY:Netauktion objekt 0610-218 Auktionspåminnelse
DESCRIPTION:Länk till objektet du var intresserad av: https://staging.netauktion.se/auktion/produkt/omkladningsskap-15st-9
END:VEVENT
END:VCALENDAR
