BEGIN:VCALENDAR
VERSION:2.0
PRODID:-//NetAuktion//NONSGML NetAuktion//SV
METHOD:PUBLISH
BEGIN:VEVENT
UID:20260425T122905-874106116-netauktion.se
DTSTAMP:20260425T122905
DTSTART:20110226T020100
DTEND:20110226T020400
SUMMARY:Netauktion objekt 0675-026 Auktionspåminnelse
DESCRIPTION:Länk till objektet du var intresserad av: https://staging.netauktion.se/auktion/produkt/familjespel-cirondo-3st-10
END:VEVENT
END:VCALENDAR
