BEGIN:VCALENDAR
VERSION:2.0
PRODID:-//NetAuktion//NONSGML NetAuktion//SV
METHOD:PUBLISH
BEGIN:VEVENT
UID:20260421T104615-2030783851-netauktion.se
DTSTAMP:20260421T104615
DTSTART:20110331T022700
DTEND:20110331T023000
SUMMARY:Netauktion objekt 0610-283 Auktionspåminnelse
DESCRIPTION:Länk till objektet du var intresserad av: https://staging.netauktion.se/auktion/produkt/3st-svarta-tonerkassetter-declaser-ep-l
END:VEVENT
END:VCALENDAR
