BEGIN:VCALENDAR
VERSION:2.0
PRODID:-//NetAuktion//NONSGML NetAuktion//SV
METHOD:PUBLISH
BEGIN:VEVENT
UID:20260421T103033-326144087-netauktion.se
DTSTAMP:20260421T103033
DTSTART:20110331T020700
DTEND:20110331T021000
SUMMARY:Netauktion objekt 0610-284 Auktionspåminnelse
DESCRIPTION:Länk till objektet du var intresserad av: https://staging.netauktion.se/auktion/produkt/2st-svarta-tonerkassetter-digital-ep-n
END:VEVENT
END:VCALENDAR
