BEGIN:VCALENDAR
VERSION:2.0
PRODID:-//NetAuktion//NONSGML NetAuktion//SV
METHOD:PUBLISH
BEGIN:VEVENT
UID:20260421T102838-518147899-netauktion.se
DTSTAMP:20260421T102838
DTSTART:20101130T025300
DTEND:20101130T025600
SUMMARY:Netauktion objekt 0711-144 Auktionspåminnelse
DESCRIPTION:Länk till objektet du var intresserad av: https://staging.netauktion.se/auktion/produkt/kakelklinkers-kalebodur-295x295cm-ca-28m2
END:VEVENT
END:VCALENDAR
