BEGIN:VCALENDAR
VERSION:2.0
PRODID:-//NetAuktion//NONSGML NetAuktion//SV
METHOD:PUBLISH
BEGIN:VEVENT
UID:20260421T104303-1045656401-netauktion.se
DTSTAMP:20260421T104303
DTSTART:20101130T025300
DTEND:20101130T025600
SUMMARY:Netauktion objekt 0711-153 Auktionspåminnelse
DESCRIPTION:Länk till objektet du var intresserad av: https://staging.netauktion.se/auktion/produkt/kakelklinkers-tau-45x45cm-ca-46m2
END:VEVENT
END:VCALENDAR
