BEGIN:VCALENDAR
VERSION:2.0
PRODID:-//NetAuktion//NONSGML NetAuktion//SV
METHOD:PUBLISH
BEGIN:VEVENT
UID:20260421T104606-636487450-netauktion.se
DTSTAMP:20260421T104606
DTSTART:20101130T031600
DTEND:20101130T031900
SUMMARY:Netauktion objekt 0711-161 Auktionspåminnelse
DESCRIPTION:Länk till objektet du var intresserad av: https://staging.netauktion.se/auktion/produkt/kakelklinkers-tau-30x30cm-ca-45m2
END:VEVENT
END:VCALENDAR
