BEGIN:VCALENDAR
VERSION:2.0
PRODID:-//NetAuktion//NONSGML NetAuktion//SV
METHOD:PUBLISH
BEGIN:VEVENT
UID:20260421T104632-27628957-netauktion.se
DTSTAMP:20260421T104632
DTSTART:20101130T031700
DTEND:20101130T032000
SUMMARY:Netauktion objekt 0711-162 Auktionspåminnelse
DESCRIPTION:Länk till objektet du var intresserad av: https://staging.netauktion.se/auktion/produkt/kakelklinkers-tau-30x60cm-ca-54m2
END:VEVENT
END:VCALENDAR
