BEGIN:VCALENDAR
VERSION:2.0
PRODID:-//NetAuktion//NONSGML NetAuktion//SV
METHOD:PUBLISH
BEGIN:VEVENT
UID:20260421T104319-2075559195-netauktion.se
DTSTAMP:20260421T104319
DTSTART:20101130T031100
DTEND:20101130T031400
SUMMARY:Netauktion objekt 0711-166 Auktionspåminnelse
DESCRIPTION:Länk till objektet du var intresserad av: https://staging.netauktion.se/auktion/produkt/kakelklinkers-dom-33x33cm-ca-156m2
END:VEVENT
END:VCALENDAR
