BEGIN:VCALENDAR
VERSION:2.0
PRODID:-//NetAuktion//NONSGML NetAuktion//SV
METHOD:PUBLISH
BEGIN:VEVENT
UID:20260421T102640-1078450166-netauktion.se
DTSTAMP:20260421T102640
DTSTART:20101130T030100
DTEND:20101130T030400
SUMMARY:Netauktion objekt 0711-168 Auktionspåminnelse
DESCRIPTION:Länk till objektet du var intresserad av: https://staging.netauktion.se/auktion/produkt/kakelklinkers-ascot-4x43cm-ca-75m2
END:VEVENT
END:VCALENDAR
