BEGIN:VCALENDAR
VERSION:2.0
PRODID:-//NetAuktion//NONSGML NetAuktion//SV
METHOD:PUBLISH
BEGIN:VEVENT
UID:20260421T104321-337654611-netauktion.se
DTSTAMP:20260421T104321
DTSTART:20101130T031100
DTEND:20101130T031400
SUMMARY:Netauktion objekt 0711-169 Auktionspåminnelse
DESCRIPTION:Länk till objektet du var intresserad av: https://staging.netauktion.se/auktion/produkt/kakelklinkers-ascot-4x43cm-ca-78m2
END:VEVENT
END:VCALENDAR
