BEGIN:VCALENDAR
VERSION:2.0
PRODID:-//NetAuktion//NONSGML NetAuktion//SV
METHOD:PUBLISH
BEGIN:VEVENT
UID:20260421T104322-227268460-netauktion.se
DTSTAMP:20260421T104322
DTSTART:20101130T031400
DTEND:20101130T031700
SUMMARY:Netauktion objekt 0711-171 Auktionspåminnelse
DESCRIPTION:Länk till objektet du var intresserad av: https://staging.netauktion.se/auktion/produkt/kakelklinkers-ascot-4x43cm-ca-44m2
END:VEVENT
END:VCALENDAR
