BEGIN:VCALENDAR
VERSION:2.0
PRODID:-//NetAuktion//NONSGML NetAuktion//SV
METHOD:PUBLISH
BEGIN:VEVENT
UID:20260421T104304-1797192633-netauktion.se
DTSTAMP:20260421T104304
DTSTART:20101130T031400
DTEND:20101130T031700
SUMMARY:Netauktion objekt 0711-173 Auktionspåminnelse
DESCRIPTION:Länk till objektet du var intresserad av: https://staging.netauktion.se/auktion/produkt/kakelklinkers-refin-20x20cm-ca-158m2
END:VEVENT
END:VCALENDAR
