BEGIN:VCALENDAR
VERSION:2.0
PRODID:-//NetAuktion//NONSGML NetAuktion//SV
METHOD:PUBLISH
BEGIN:VEVENT
UID:20260421T102804-997970918-netauktion.se
DTSTAMP:20260421T102804
DTSTART:20101130T025600
DTEND:20101130T025900
SUMMARY:Netauktion objekt 0711-175 Auktionspåminnelse
DESCRIPTION:Länk till objektet du var intresserad av: https://staging.netauktion.se/auktion/produkt/kakelklinkers-refin-60x60cm-ca-54m2
END:VEVENT
END:VCALENDAR
