BEGIN:VCALENDAR
VERSION:2.0
PRODID:-//NetAuktion//NONSGML NetAuktion//SV
METHOD:PUBLISH
BEGIN:VEVENT
UID:20260421T104322-239653505-netauktion.se
DTSTAMP:20260421T104322
DTSTART:20101130T032200
DTEND:20101130T032500
SUMMARY:Netauktion objekt 0711-176 Auktionspåminnelse
DESCRIPTION:Länk till objektet du var intresserad av: https://staging.netauktion.se/auktion/produkt/kakelklinkers-refin-30x30cm-ca-39m2
END:VEVENT
END:VCALENDAR
