BEGIN:VCALENDAR
VERSION:2.0
PRODID:-//NetAuktion//NONSGML NetAuktion//SV
METHOD:PUBLISH
BEGIN:VEVENT
UID:20260421T102803-1383256571-netauktion.se
DTSTAMP:20260421T102803
DTSTART:20101130T033100
DTEND:20101130T033400
SUMMARY:Netauktion objekt 0711-184 Auktionspåminnelse
DESCRIPTION:Länk till objektet du var intresserad av: https://staging.netauktion.se/auktion/produkt/mosaik-vitogres-30x30cm-ca-12m2
END:VEVENT
END:VCALENDAR
