BEGIN:VCALENDAR
VERSION:2.0
PRODID:-//NetAuktion//NONSGML NetAuktion//SV
METHOD:PUBLISH
BEGIN:VEVENT
UID:20260421T102746-1905581405-netauktion.se
DTSTAMP:20260421T102746
DTSTART:20101130T034300
DTEND:20101130T034600
SUMMARY:Netauktion objekt 0711-192 Auktionspåminnelse
DESCRIPTION:Länk till objektet du var intresserad av: https://staging.netauktion.se/auktion/produkt/mosaik-sicis-295x295cm-ca-105m2
END:VEVENT
END:VCALENDAR
