BEGIN:VCALENDAR
VERSION:2.0
PRODID:-//NetAuktion//NONSGML NetAuktion//SV
METHOD:PUBLISH
BEGIN:VEVENT
UID:20260421T104352-1476858792-netauktion.se
DTSTAMP:20260421T104352
DTSTART:20101130T034200
DTEND:20101130T034500
SUMMARY:Netauktion objekt 0711-193 Auktionspåminnelse
DESCRIPTION:Länk till objektet du var intresserad av: https://staging.netauktion.se/auktion/produkt/mosaik-sicis-295x295cm-ca-95m2-2
END:VEVENT
END:VCALENDAR
