BEGIN:VCALENDAR
VERSION:2.0
PRODID:-//NetAuktion//NONSGML NetAuktion//SV
METHOD:PUBLISH
BEGIN:VEVENT
UID:20260421T102707-1361735383-netauktion.se
DTSTAMP:20260421T102707
DTSTART:20080523T000900
DTEND:20080523T001200
SUMMARY:Netauktion objekt 0004-134 Auktionspåminnelse
DESCRIPTION:Länk till objektet du var intresserad av: https://staging.netauktion.se/auktion/produkt/innebandy-klubbor-klader-och-tillbehor
END:VEVENT
END:VCALENDAR
