BEGIN:VCALENDAR
VERSION:2.0
PRODID:-//NetAuktion//NONSGML NetAuktion//SV
METHOD:PUBLISH
BEGIN:VEVENT
UID:20260421T104536-334223137-netauktion.se
DTSTAMP:20260421T104536
DTSTART:20110331T023000
DTEND:20110331T023300
SUMMARY:Netauktion objekt 0610-311 Auktionspåminnelse
DESCRIPTION:Länk till objektet du var intresserad av: https://staging.netauktion.se/auktion/produkt/datorpaket-ibm-71g
END:VEVENT
END:VCALENDAR
