BEGIN:VCALENDAR
VERSION:2.0
PRODID:-//NetAuktion//NONSGML NetAuktion//SV
METHOD:PUBLISH
BEGIN:VEVENT
UID:20260421T104352-815571015-netauktion.se
DTSTAMP:20260421T104352
DTSTART:20101230T014600
DTEND:20101230T014900
SUMMARY:Netauktion objekt 0731-005 Auktionspåminnelse
DESCRIPTION:Länk till objektet du var intresserad av: https://staging.netauktion.se/auktion/produkt/verktyg-slipmaskin-mm
END:VEVENT
END:VCALENDAR
