BEGIN:VCALENDAR
VERSION:2.0
PRODID:-//NetAuktion//NONSGML NetAuktion//SV
METHOD:PUBLISH
BEGIN:VEVENT
UID:20260421T104317-1241421778-netauktion.se
DTSTAMP:20260421T104317
DTSTART:20101230T023600
DTEND:20101230T023900
SUMMARY:Netauktion objekt 0731-009 Auktionspåminnelse
DESCRIPTION:Länk till objektet du var intresserad av: https://staging.netauktion.se/auktion/produkt/slangpress-finn-power-kap
END:VEVENT
END:VCALENDAR
