BEGIN:VCALENDAR
VERSION:2.0
PRODID:-//NetAuktion//NONSGML NetAuktion//SV
METHOD:PUBLISH
BEGIN:VEVENT
UID:20260421T103031-1269520473-netauktion.se
DTSTAMP:20260421T103031
DTSTART:20101230T020200
DTEND:20101230T020500
SUMMARY:Netauktion objekt 0731-023 Auktionspåminnelse
DESCRIPTION:Länk till objektet du var intresserad av: https://staging.netauktion.se/auktion/produkt/arbetsbord-med-verktyg-6
END:VEVENT
END:VCALENDAR
