BEGIN:VCALENDAR
VERSION:2.0
PRODID:-//NetAuktion//NONSGML NetAuktion//SV
METHOD:PUBLISH
BEGIN:VEVENT
UID:20260421T104323-1824371619-netauktion.se
DTSTAMP:20260421T104323
DTSTART:20101230T015800
DTEND:20101230T020100
SUMMARY:Netauktion objekt 0731-032 Auktionspåminnelse
DESCRIPTION:Länk till objektet du var intresserad av: https://staging.netauktion.se/auktion/produkt/elkablar-3
END:VEVENT
END:VCALENDAR
