BEGIN:VCALENDAR
VERSION:2.0
PRODID:-//NetAuktion//NONSGML NetAuktion//SV
METHOD:PUBLISH
BEGIN:VEVENT
UID:20260421T102706-1011173858-netauktion.se
DTSTAMP:20260421T102706
DTSTART:20101230T020200
DTEND:20101230T020500
SUMMARY:Netauktion objekt 0731-034 Auktionspåminnelse
DESCRIPTION:Länk till objektet du var intresserad av: https://staging.netauktion.se/auktion/produkt/balansblock-4
END:VEVENT
END:VCALENDAR
