BEGIN:VCALENDAR
VERSION:2.0
PRODID:-//NetAuktion//NONSGML NetAuktion//SV
METHOD:PUBLISH
BEGIN:VEVENT
UID:20260421T104303-1749232053-netauktion.se
DTSTAMP:20260421T104303
DTSTART:20101230T020300
DTEND:20101230T020600
SUMMARY:Netauktion objekt 0731-035 Auktionspåminnelse
DESCRIPTION:Länk till objektet du var intresserad av: https://staging.netauktion.se/auktion/produkt/balansblock-svangarmar
END:VEVENT
END:VCALENDAR
