BEGIN:VCALENDAR
VERSION:2.0
PRODID:-//NetAuktion//NONSGML NetAuktion//SV
METHOD:PUBLISH
BEGIN:VEVENT
UID:20260425T134314-678286826-netauktion.se
DTSTAMP:20260425T134314
DTSTART:20090116T020500
DTEND:20090116T020800
SUMMARY:Netauktion objekt 0153-001 Auktionspåminnelse
DESCRIPTION:Länk till objektet du var intresserad av: https://staging.netauktion.se/auktion/produkt/tippbar-gallerkarra-96-eeb276
END:VEVENT
END:VCALENDAR
