BEGIN:VCALENDAR
VERSION:2.0
PRODID:-//NetAuktion//NONSGML NetAuktion//SV
METHOD:PUBLISH
BEGIN:VEVENT
UID:20260425T134246-352490970-netauktion.se
DTSTAMP:20260425T134246
DTSTART:20090116T022400
DTEND:20090116T022700
SUMMARY:Netauktion objekt 0153-002 Auktionspåminnelse
DESCRIPTION:Länk till objektet du var intresserad av: https://staging.netauktion.se/auktion/produkt/biltransport-82-fuz672
END:VEVENT
END:VCALENDAR
