BEGIN:VCALENDAR
VERSION:2.0
PRODID:-//NetAuktion//NONSGML NetAuktion//SV
METHOD:PUBLISH
BEGIN:VEVENT
UID:20260425T134314-1491443438-netauktion.se
DTSTAMP:20260425T134314
DTSTART:20090116T020300
DTEND:20090116T020600
SUMMARY:Netauktion objekt 0141-002 Auktionspåminnelse
DESCRIPTION:Länk till objektet du var intresserad av: https://staging.netauktion.se/auktion/produkt/slapkarra-97-gsp885
END:VEVENT
END:VCALENDAR
