BEGIN:VCALENDAR
VERSION:2.0
PRODID:-//NetAuktion//NONSGML NetAuktion//SV
METHOD:PUBLISH
BEGIN:VEVENT
UID:20260425T134313-2059861023-netauktion.se
DTSTAMP:20260425T134313
DTSTART:20090116T023000
DTEND:20090116T023300
SUMMARY:Netauktion objekt 0145-093 Auktionspåminnelse
DESCRIPTION:Länk till objektet du var intresserad av: https://staging.netauktion.se/auktion/produkt/redskapsbarare-broddway-un-2109-med-plog-och-sopaggregat
END:VEVENT
END:VCALENDAR
