BEGIN:VCALENDAR
VERSION:2.0
PRODID:-//NetAuktion//NONSGML NetAuktion//SV
METHOD:PUBLISH
BEGIN:VEVENT
UID:20260421T104308-1166975516-netauktion.se
DTSTAMP:20260421T104308
DTSTART:20080523T001500
DTEND:20080523T001800
SUMMARY:Netauktion objekt 0004-140 Auktionspåminnelse
DESCRIPTION:Länk till objektet du var intresserad av: https://staging.netauktion.se/auktion/produkt/squash-racket-och-bollar
END:VEVENT
END:VCALENDAR
