BEGIN:VCALENDAR
VERSION:2.0
PRODID:-//NetAuktion//NONSGML NetAuktion//SV
METHOD:PUBLISH
BEGIN:VEVENT
UID:20260425T134312-978692579-netauktion.se
DTSTAMP:20260425T134312
DTSTART:20090123T012300
DTEND:20090123T012600
SUMMARY:Netauktion objekt 0035-073 Auktionspåminnelse
DESCRIPTION:Länk till objektet du var intresserad av: https://staging.netauktion.se/auktion/produkt/mobelgrupp-for-barn
END:VEVENT
END:VCALENDAR
