BEGIN:VCALENDAR
VERSION:2.0
PRODID:-//NetAuktion//NONSGML NetAuktion//SV
METHOD:PUBLISH
BEGIN:VEVENT
UID:20260425T134248-1982156256-netauktion.se
DTSTAMP:20260425T134248
DTSTART:20090123T012400
DTEND:20090123T012700
SUMMARY:Netauktion objekt 0035-074 Auktionspåminnelse
DESCRIPTION:Länk till objektet du var intresserad av: https://staging.netauktion.se/auktion/produkt/glasvas-fran-kosta-boda
END:VEVENT
END:VCALENDAR
