BEGIN:VCALENDAR
VERSION:2.0
PRODID:-//NetAuktion//NONSGML NetAuktion//SV
METHOD:PUBLISH
BEGIN:VEVENT
UID:20260425T134246-231209329-netauktion.se
DTSTAMP:20260425T134246
DTSTART:20090116T021700
DTEND:20090116T022000
SUMMARY:Netauktion objekt 0153-003 Auktionspåminnelse
DESCRIPTION:Länk till objektet du var intresserad av: https://staging.netauktion.se/auktion/produkt/ford-courier-94-atm217
END:VEVENT
END:VCALENDAR
