BEGIN:VCALENDAR
VERSION:2.0
PRODID:-//NetAuktion//NONSGML NetAuktion//SV
METHOD:PUBLISH
BEGIN:VEVENT
UID:20260425T134353-1055696100-netauktion.se
DTSTAMP:20260425T134353
DTSTART:20090116T021800
DTEND:20090116T022100
SUMMARY:Netauktion objekt 0153-004 Auktionspåminnelse
DESCRIPTION:Länk till objektet du var intresserad av: https://staging.netauktion.se/auktion/produkt/renault-trafic-97-bgx871
END:VEVENT
END:VCALENDAR
