BEGIN:VCALENDAR
VERSION:2.0
PRODID:-//NetAuktion//NONSGML NetAuktion//SV
METHOD:PUBLISH
BEGIN:VEVENT
UID:20260425T134347-364860011-netauktion.se
DTSTAMP:20260425T134347
DTSTART:20090116T023100
DTEND:20090116T023400
SUMMARY:Netauktion objekt 0153-005 Auktionspåminnelse
DESCRIPTION:Länk till objektet du var intresserad av: https://staging.netauktion.se/auktion/produkt/kvicklift-90-nlm089
END:VEVENT
END:VCALENDAR
